BEGIN:VCALENDAR
VERSION:2.0
PRODID:-//The Atria - ECPv6.9.0//NONSGML v1.0//EN
CALSCALE:GREGORIAN
METHOD:PUBLISH
X-WR-CALNAME:The Atria
X-ORIGINAL-URL:https://theatria.ca
X-WR-CALDESC:Events for The Atria
REFRESH-INTERVAL;VALUE=DURATION:PT1H
X-Robots-Tag:noindex
X-PUBLISHED-TTL:PT1H
BEGIN:VTIMEZONE
TZID:UTC
BEGIN:STANDARD
TZOFFSETFROM:+0000
TZOFFSETTO:+0000
TZNAME:UTC
DTSTART:20200101T000000
END:STANDARD
END:VTIMEZONE
BEGIN:VEVENT
DTSTART;TZID=UTC:20200214T213000
DTEND;TZID=UTC:20200215T010000
DTSTAMP:20260425T202737
CREATED:20200114T145636Z
LAST-MODIFIED:20200114T145636Z
UID:1229-1581715800-1581728400@theatria.ca
SUMMARY:Napolean\, Cadillac Blood\, 7 Day Riot\, Connor Stinson
DESCRIPTION:
URL:https://theatria.ca/event/napolean-cadillac-blood-7-day-riot-connor-stinson/
END:VEVENT
END:VCALENDAR