BEGIN:VCALENDAR
VERSION:2.0
PRODID:-//The Atria - ECPv6.9.0//NONSGML v1.0//EN
CALSCALE:GREGORIAN
METHOD:PUBLISH
X-ORIGINAL-URL:https://theatria.ca
X-WR-CALDESC:Events for The Atria
REFRESH-INTERVAL;VALUE=DURATION:PT1H
X-Robots-Tag:noindex
X-PUBLISHED-TTL:PT1H
BEGIN:VTIMEZONE
TZID:UTC
BEGIN:STANDARD
TZOFFSETFROM:+0000
TZOFFSETTO:+0000
TZNAME:UTC
DTSTART:20200101T000000
END:STANDARD
END:VTIMEZONE
BEGIN:VEVENT
DTSTART;TZID=UTC:20200201T213000
DTEND;TZID=UTC:20200202T010000
DTSTAMP:20260425T202904
CREATED:20200114T142458Z
LAST-MODIFIED:20200114T142458Z
UID:1226-1580592600-1580605200@theatria.ca
SUMMARY:Social Strife\, Emerald Rex\, 7 day Riot\, Left on the Dial\, Jade Heart
DESCRIPTION:
URL:https://theatria.ca/event/social-strife-emerald-rex-7-day-riot-left-on-the-dial-jade-heart/
END:VEVENT
BEGIN:VEVENT
DTSTART;TZID=UTC:20200201T213000
DTEND;TZID=UTC:20200202T010000
DTSTAMP:20260425T202904
CREATED:20200122T164154Z
LAST-MODIFIED:20200122T164154Z
UID:1238-1580592600-1580605200@theatria.ca
SUMMARY:Held in Secret\, Sheep of Lucifer\,Suicide for a King\, Please Stand By. At this point
DESCRIPTION:at the Diezel room
URL:https://theatria.ca/event/held-in-secret-sheep-of-lucifersuicide-for-a-king-please-stand-by-at-this-point/
END:VEVENT
END:VCALENDAR