BEGIN:VCALENDAR
VERSION:2.0
PRODID:-//The Atria - ECPv6.9.0//NONSGML v1.0//EN
CALSCALE:GREGORIAN
METHOD:PUBLISH
X-WR-CALNAME:The Atria
X-ORIGINAL-URL:https://theatria.ca
X-WR-CALDESC:Events for The Atria
REFRESH-INTERVAL;VALUE=DURATION:PT1H
X-Robots-Tag:noindex
X-PUBLISHED-TTL:PT1H
BEGIN:VTIMEZONE
TZID:UTC
BEGIN:STANDARD
TZOFFSETFROM:+0000
TZOFFSETTO:+0000
TZNAME:UTC
DTSTART:20190101T000000
END:STANDARD
END:VTIMEZONE
BEGIN:VEVENT
DTSTART;TZID=UTC:20191129T090000
DTEND;TZID=UTC:20191130T013000
DTSTAMP:20260425T232558
CREATED:20191120T170820Z
LAST-MODIFIED:20191120T170820Z
UID:1216-1575018000-1575077400@theatria.ca
SUMMARY:Moon Tan\, Zaftig\, Veinduze
DESCRIPTION:
URL:https://theatria.ca/event/moon-tan-zaftig-veinduze/
END:VEVENT
END:VCALENDAR