BEGIN:VCALENDAR
VERSION:2.0
PRODID:-//The Atria - ECPv6.9.0//NONSGML v1.0//EN
CALSCALE:GREGORIAN
METHOD:PUBLISH
X-ORIGINAL-URL:https://theatria.ca
X-WR-CALDESC:Events for The Atria
REFRESH-INTERVAL;VALUE=DURATION:PT1H
X-Robots-Tag:noindex
X-PUBLISHED-TTL:PT1H
BEGIN:VTIMEZONE
TZID:UTC
BEGIN:STANDARD
TZOFFSETFROM:+0000
TZOFFSETTO:+0000
TZNAME:UTC
DTSTART:20190101T000000
END:STANDARD
END:VTIMEZONE
BEGIN:VEVENT
DTSTART;TZID=UTC:20191122T210000
DTEND;TZID=UTC:20191123T013000
DTSTAMP:20260426T005426
CREATED:20191120T165827Z
LAST-MODIFIED:20191120T165827Z
UID:1213-1574456400-1574472600@theatria.ca
SUMMARY:Turquoise Sun\, The Bloodshots\, Cudbear\, Willy Nilly
DESCRIPTION:
URL:https://theatria.ca/event/turquoise-sun-the-bloodshots-cudbear-willy-nilly/
END:VEVENT
BEGIN:VEVENT
DTSTART;TZID=UTC:20191123T090000
DTEND;TZID=UTC:20191124T010000
DTSTAMP:20260426T005426
CREATED:20191120T170646Z
LAST-MODIFIED:20191120T170646Z
UID:1215-1574499600-1574557200@theatria.ca
SUMMARY:Three Step Snake\, Christaki @ the Diezel
DESCRIPTION:
URL:https://theatria.ca/event/three-step-snake-christaki-the-diezel/
END:VEVENT
END:VCALENDAR