BEGIN:VCALENDAR
VERSION:2.0
PRODID:-//The Atria - ECPv6.9.0//NONSGML v1.0//EN
CALSCALE:GREGORIAN
METHOD:PUBLISH
X-ORIGINAL-URL:https://theatria.ca
X-WR-CALDESC:Events for The Atria
REFRESH-INTERVAL;VALUE=DURATION:PT1H
X-Robots-Tag:noindex
X-PUBLISHED-TTL:PT1H
BEGIN:VTIMEZONE
TZID:UTC
BEGIN:STANDARD
TZOFFSETFROM:+0000
TZOFFSETTO:+0000
TZNAME:UTC
DTSTART:20190101T000000
END:STANDARD
END:VTIMEZONE
BEGIN:VEVENT
DTSTART;TZID=UTC:20191115T210000
DTEND;TZID=UTC:20191116T010000
DTSTAMP:20260426T005446
CREATED:20191010T145056Z
LAST-MODIFIED:20191010T145056Z
UID:1210-1573851600-1573866000@theatria.ca
SUMMARY:Grimskunk\, Cross Dog\, Critical Hit
DESCRIPTION:
URL:https://theatria.ca/event/grimskunk-cross-dog-critical-hit/
END:VEVENT
END:VCALENDAR