BEGIN:VCALENDAR
VERSION:2.0
PRODID:-//The Atria - ECPv6.9.0//NONSGML v1.0//EN
CALSCALE:GREGORIAN
METHOD:PUBLISH
X-ORIGINAL-URL:https://theatria.ca
X-WR-CALDESC:Events for The Atria
REFRESH-INTERVAL;VALUE=DURATION:PT1H
X-Robots-Tag:noindex
X-PUBLISHED-TTL:PT1H
BEGIN:VTIMEZONE
TZID:UTC
BEGIN:STANDARD
TZOFFSETFROM:+0000
TZOFFSETTO:+0000
TZNAME:UTC
DTSTART:20190101T000000
END:STANDARD
END:VTIMEZONE
BEGIN:VEVENT
DTSTART;TZID=UTC:20191101T210000
DTEND;TZID=UTC:20191102T010000
DTSTAMP:20260426T005411
CREATED:20191010T144222Z
LAST-MODIFIED:20191010T144222Z
UID:1207-1572642000-1572656400@theatria.ca
SUMMARY:The Metal Detectors Halloween show
DESCRIPTION:
URL:https://theatria.ca/event/the-metal-detectors-halloween-show/
END:VEVENT
BEGIN:VEVENT
DTSTART;TZID=UTC:20191101T213000
DTEND;TZID=UTC:20191102T010000
DTSTAMP:20260426T005411
CREATED:20190906T134153Z
LAST-MODIFIED:20191010T144322Z
UID:1199-1572643800-1572656400@theatria.ca
SUMMARY:Garbanzo\, Summons\, Mary & Adelaide\, Summons @the Diezel Room
DESCRIPTION:
URL:https://theatria.ca/event/garbanzo-summons-mary-adelaide/
END:VEVENT
END:VCALENDAR