BEGIN:VCALENDAR
VERSION:2.0
PRODID:-//The Atria - ECPv6.9.0//NONSGML v1.0//EN
CALSCALE:GREGORIAN
METHOD:PUBLISH
X-ORIGINAL-URL:https://theatria.ca
X-WR-CALDESC:Events for The Atria
REFRESH-INTERVAL;VALUE=DURATION:PT1H
X-Robots-Tag:noindex
X-PUBLISHED-TTL:PT1H
BEGIN:VTIMEZONE
TZID:UTC
BEGIN:STANDARD
TZOFFSETFROM:+0000
TZOFFSETTO:+0000
TZNAME:UTC
DTSTART:20190101T000000
END:STANDARD
END:VTIMEZONE
BEGIN:VEVENT
DTSTART;TZID=UTC:20191025T210000
DTEND;TZID=UTC:20191026T010000
DTSTAMP:20260426T021719
CREATED:20191010T142643Z
LAST-MODIFIED:20191010T142643Z
UID:1205-1572037200-1572051600@theatria.ca
SUMMARY:Beacon Seasons\, Space Cowboys @ the Diezel Room
DESCRIPTION:
URL:https://theatria.ca/event/beacon-seasons-space-cowboys-the-diezel-room/
END:VEVENT
BEGIN:VEVENT
DTSTART;TZID=UTC:20191025T210000
DTEND;TZID=UTC:20191026T010000
DTSTAMP:20260426T021719
CREATED:20191010T142820Z
LAST-MODIFIED:20191010T142820Z
UID:1206-1572037200-1572051600@theatria.ca
SUMMARY:Raider\, Kohlit\, Cathartic Demise\, Sheep of Lucifer
DESCRIPTION:
URL:https://theatria.ca/event/raider-kohlit-cathartic-demise-sheep-of-lucifer/
END:VEVENT
END:VCALENDAR