BEGIN:VCALENDAR
VERSION:2.0
PRODID:-//The Atria - ECPv6.9.0//NONSGML v1.0//EN
CALSCALE:GREGORIAN
METHOD:PUBLISH
X-ORIGINAL-URL:https://theatria.ca
X-WR-CALDESC:Events for The Atria
REFRESH-INTERVAL;VALUE=DURATION:PT1H
X-Robots-Tag:noindex
X-PUBLISHED-TTL:PT1H
BEGIN:VTIMEZONE
TZID:UTC
BEGIN:STANDARD
TZOFFSETFROM:+0000
TZOFFSETTO:+0000
TZNAME:UTC
DTSTART:20190101T000000
END:STANDARD
END:VTIMEZONE
BEGIN:VEVENT
DTSTART;TZID=UTC:20191018T213000
DTEND;TZID=UTC:20191019T010000
DTSTAMP:20260426T021720
CREATED:20190906T133747Z
LAST-MODIFIED:20190906T133747Z
UID:1197-1571434200-1571446800@theatria.ca
SUMMARY:Counterfeit\, Green Light District\, Rich with Sin
DESCRIPTION:
URL:https://theatria.ca/event/counterfeit-green-light-district-rich-with-sin/
END:VEVENT
END:VCALENDAR