BEGIN:VCALENDAR
VERSION:2.0
PRODID:-//The Atria - ECPv6.9.0//NONSGML v1.0//EN
CALSCALE:GREGORIAN
METHOD:PUBLISH
X-ORIGINAL-URL:https://theatria.ca
X-WR-CALDESC:Events for The Atria
REFRESH-INTERVAL;VALUE=DURATION:PT1H
X-Robots-Tag:noindex
X-PUBLISHED-TTL:PT1H
BEGIN:VTIMEZONE
TZID:UTC
BEGIN:STANDARD
TZOFFSETFROM:+0000
TZOFFSETTO:+0000
TZNAME:UTC
DTSTART:20190101T000000
END:STANDARD
END:VTIMEZONE
BEGIN:VEVENT
DTSTART;TZID=UTC:20190804T213000
DTEND;TZID=UTC:20191005T010000
DTSTAMP:20260426T035215
CREATED:20190906T132707Z
LAST-MODIFIED:20190906T132707Z
UID:1193-1564954200-1570237200@theatria.ca
SUMMARY:Late Kings \, King Krush\, BUSM\, DOMO
DESCRIPTION:
URL:https://theatria.ca/event/late-kings-king-krush-busm-domo/
END:VEVENT
BEGIN:VEVENT
DTSTART;TZID=UTC:20190913T213000
DTEND;TZID=UTC:20190914T010000
DTSTAMP:20260426T035215
CREATED:20190906T125717Z
LAST-MODIFIED:20190906T125717Z
UID:1181-1568410200-1568422800@theatria.ca
SUMMARY:Chanelle Albert And Easy Co. Wine Lips\, Silver Lining
DESCRIPTION:
URL:https://theatria.ca/event/chanelle-albert-and-easy-co-wine-lips-silver-lining/
END:VEVENT
BEGIN:VEVENT
DTSTART;TZID=UTC:20190913T213000
DTEND;TZID=UTC:20190914T010000
DTSTAMP:20260426T035215
CREATED:20190906T130020Z
LAST-MODIFIED:20190906T130020Z
UID:1182-1568410200-1568422800@theatria.ca
SUMMARY:The Ocean Cure\, Glad for Today\, Please Stand By\, This is A Crisis\, Throne to wolves @ the Diezel Room
DESCRIPTION:
URL:https://theatria.ca/event/the-ocean-cure-glad-for-today-please-stand-by-this-is-a-crisis-throne-to-wolves-the-diezel-room/
END:VEVENT
BEGIN:VEVENT
DTSTART;TZID=UTC:20190914T090000
DTEND;TZID=UTC:20190915T010000
DTSTAMP:20260426T035215
CREATED:20190720T105209Z
LAST-MODIFIED:20190720T105209Z
UID:1176-1568451600-1568509200@theatria.ca
SUMMARY:Live Animals\, Generation Zero\, Lucid Movement
DESCRIPTION:
URL:https://theatria.ca/event/live-animals-generation-zero-lucid-movement/
END:VEVENT
END:VCALENDAR