BEGIN:VCALENDAR
VERSION:2.0
PRODID:-//The Atria - ECPv6.9.0//NONSGML v1.0//EN
CALSCALE:GREGORIAN
METHOD:PUBLISH
X-ORIGINAL-URL:https://theatria.ca
X-WR-CALDESC:Events for The Atria
REFRESH-INTERVAL;VALUE=DURATION:PT1H
X-Robots-Tag:noindex
X-PUBLISHED-TTL:PT1H
BEGIN:VTIMEZONE
TZID:UTC
BEGIN:STANDARD
TZOFFSETFROM:+0000
TZOFFSETTO:+0000
TZNAME:UTC
DTSTART:20190101T000000
END:STANDARD
END:VTIMEZONE
BEGIN:VEVENT
DTSTART;TZID=UTC:20190804T213000
DTEND;TZID=UTC:20191005T010000
DTSTAMP:20260426T035211
CREATED:20190906T132707Z
LAST-MODIFIED:20190906T132707Z
UID:1193-1564954200-1570237200@theatria.ca
SUMMARY:Late Kings \, King Krush\, BUSM\, DOMO
DESCRIPTION:
URL:https://theatria.ca/event/late-kings-king-krush-busm-domo/
END:VEVENT
BEGIN:VEVENT
DTSTART;TZID=UTC:20190906T210000
DTEND;TZID=UTC:20190907T010000
DTSTAMP:20260426T035211
CREATED:20190720T104938Z
LAST-MODIFIED:20190720T104938Z
UID:1175-1567803600-1567818000@theatria.ca
SUMMARY:Tribute to The Who\, The Clash \, David Bowie and Lou Reed by Transformer
DESCRIPTION:
URL:https://theatria.ca/event/tribute-to-the-who-the-clash-david-bowie-and-lou-reed-by-transformer/
END:VEVENT
BEGIN:VEVENT
DTSTART;TZID=UTC:20190906T213000
DTEND;TZID=UTC:20190907T010000
DTSTAMP:20260426T035211
CREATED:20190906T124955Z
LAST-MODIFIED:20190906T124955Z
UID:1178-1567805400-1567818000@theatria.ca
SUMMARY:Adrian Pain and The Dead Sexy \, Douglas Makenzie\, Den. Uke
DESCRIPTION:
URL:https://theatria.ca/event/adrian-pain-and-the-dead-sexy-douglas-makenzie-den-uke/
END:VEVENT
END:VCALENDAR